Workbook

Sheet Introduction
B6: September 27, 2026
B8: NOTE: For the convenience of the financial community and other interested parties, NXP is providing a summary of previously reported financial information in this
B9: spreadsheet format.
B11: Non-GAAP Financial Measures
B13: In addition to providing financial information on a basis consistent with U.S. generally accepted accounting principles ("US GAAP" or “GAAP”), NXP also provides
B14: selected financial measures on a non-GAAP basis which are adjusted for specified items. The adjustments made to achieve these non-GAAP financial
B15: measures or the non-GAAP financial measures as specified are described below, including the usefulness to management and investors.
B17: In managing NXP’s business on a consolidated basis, management develops an annual operating plan, which is approved by our Board of Directors, using
B18: non-GAAP financial measures. In measuring performance against this plan, management considers the actual or potential impacts on these non-GAAP
B19: financial measures from actions taken to reduce costs with the goal of increasing our gross margin and operating margin and when assessing appropriate
B20: levels of research and development efforts. In addition, management relies upon these non-GAAP financial measures when making decisions about product
B21: spending, administrative budgets, and other operating expenses. We believe that these non-GAAP financial measures, when coupled with the GAAP results
... B34: financial performance prepared in accordance with GAAP.
B37: Non-GAAP Adjustment or Measure | D37: Definition | F37: Usefulness to Management and Investors
B38: Purchase price accounting effects | D38: Purchase price accounting ("PPA") effects reflect the fair value adjustments impacting acquisition accounting and other acquisition adjustments charged to the Consolidated Statement of Operations. This typically relates to inventory, property, plant and equipment, as well as intangible assets, such as developed technology and marketing and customer relationships acquired. The PPA effects are recorded within both cost of revenue and operating expenses in our US GAAP financial statements. These charges are recorded over the estimated useful life of the related acquired asset and thus are generally recorded over multiple years. | F38: We believe that excluding these charges related to fair value adjustments for purposes of calculating certain non-GAAP measures allows the users of our financial statements to better understand the historic and current cost of our products, our gross margin, our operating costs, our operating margin, and also facilitates comparisons to peer companies.
B39: Restructuring | D39: Restructuring charges are costs associated with a restructuring plan and are primarily related to employee severance and benefit arrangements. Charges related to restructuring are recorded within both cost of revenue and operating expenses in our US GAAP financial statements | F39: We exclude restructuring charges, including any adjustments to charges recorded in prior periods, for purposes of calculating certain non-GAAP measures because these costs do not reflect our core operating performance. These adjustments facilitate a useful evaluation of our core operating performance and comparisons to past operating results and provide investors with additional means to evaluate expense trends.
B40: Share-based compensation | D40: Share-based compensation consists of incentive expense granted to eligible employees in the form of equity-based instruments. Charges related to share-based compensation are recorded within both cost of revenue and operating expenses in our US GAAP financial statements. | F40: We exclude charges related to share-based compensation for purposes of calculating certain non-GAAP measures because we believe these charges, which are non-cash, are not representative of our core operating performance as they can fluctuate from period to period based on factors that are not within our control, such as our stock price on the dates share-based grants are issued. We believe these adjustments provide investors with a useful view, through the eyes of management, of our core business model, how management currently evaluates core operational performance, and additional means to evaluate expense trends.
B41: Other incidentals | D41: Other incidentals consist of certain items which may be non-recurring, unusual, infrequent or directly related to an event that is distinct and non-reflective of the Company’s core operating performance. These may include such items as process and product transfer costs, certain charges related to acquisitions and divestitures, litigation and legal settlements, costs associated with the exit of a product line, factory or facility, environmental or governmental settlements, and other items of similar nature. | F41: We exclude these certain items which may be non-recurring, unusual, infrequent or directly related to an event that is distinct and non-reflective of the Company’s core operating performance for purposes of calculating certain non-GAAP measures. These adjustments facilitate a useful evaluation of our core operating performance and comparisons to past operating results and provide investors with additional means to evaluate expense trends.
B42: Non-GAAP Provision for income taxes | D42: Non-GAAP provision for income taxes is NXP's GAAP provision for income taxes adjusted for the income tax effects of the adjustments to our GAAP measure, including PPA effects, restructuring costs, share-based compensation, other incidental items and certain other adjustments to financial income (expense) items. Additionally, adjustments are made for the income tax effect of any discrete items that occur in the interim period. Discrete items primarily relate to unexpected tax events that may occur as these amounts cannot be forecasted (e.g., the impact of changes in tax law and/or rates, changes in estimates or resolved tax audits relating to prior year tax provisions, the excess or deficit tax effects on share-based compensation, etc.). | F42: The non-GAAP provision for income taxes is used to ascertain and present on a comparable basis NXP's provision for income tax after adjustments, the usefulness of which is described within this table. Additionally, the income tax effects of the adjustments to achieve the noted non-GAAP measures are used to determine NXP's non-GAAP net income (loss) attributable to stockholders and accordingly, our diluted non-GAAP earnings per share attributable to stockholders.
B43: Free Cash Flow | D43: Free Cash Flow represents operating cash flow adjusted for net additions to property, plant and equipment. | F43: We believe that free cash flow provides insight into our cash-generating capability and our financial performance and is an efficient means by which users of our financial statements can evaluate our cash flow after meeting our capital expenditure.
B44: Net debt | D44: Net debt represents total debt (short-term and long-term) after deduction of cash and cash equivalents and short-term deposits. | F44: We believe this measure provides investors with useful supplemental information about the financial performance of our business, enables comparison of financial results between periods where certain items may vary independent of business performance, and allow for greater transparency with respect of calculating our net leverage.

Sheet P&L
A1: NXP Semiconductors
A2: GAAP Condensed consolidated statements of operations (unaudited) | AU2: YTD
A3: ($ in millions) | B3: Q1 2018 | C3: Q2 2018 | D3: Q3 2018 | E3: Q4 2018 | F3: Q1 2019 | G3: Q2 2019 | H3: Q3 2019 | I3: Q4 2019 | J3: Q1 2020 | K3: Q2 2020 | L3: Q3 2020 | M3: Q4 2020 | N3: Q1 2021 | O3: Q2 2021 | P3: Q3 2021 | Q3: Q4 2021 | R3: Q1 2022 | S3: Q2 2022 | T3: Q3 2022 | U3: Q4 2022 | V3: Q1 2023 | W3: Q2 2023 | X3: Q3 2023 | Y3: Q4 2023 | Z3: Q1 2024 | AA3: Q2 2024 | AB3: Q3 2024 | AC3: Q4 2024 | AD3: Q1 2025 | AE3: Q2 2025 | AF3: Q3 2025 | AG3: Q4 2025 | AH3: Q1 2026 | AI3: Q2 2026 | AK3: Q3 2026 | AM3: 2018 | AN3: 2019 | AO3: 2020 | AP3: 2021 | AQ3: 2022 | AR3: 2023 | AS3: 2024 | AT3: 2025 | AU3: 2026
A5: Revenue | B5: 2269000000 | C5: 2290000000 | D5: 2445000000 | E5: 2403000000 | F5: 2094000000 | G5: 2217000000 | H5: 2265000000 | I5: 2301000000 | J5: 2021000000 | K5: 1817000000 | L5: 2267000000 | M5: 2507000000 | N5: 2567000000 | O5: 2596000000 | P5: 2861000000 | Q5: 3039000000 | R5: 3136000000 | S5: 3312000000 | T5: 3445000000 | U5: 3312000000 | V5: 3121000000 | W5: 3299000000 | X5: 3434000000 | Y5: 3422000000 | Z5: 3126000000 | AA5: 3127000000 | AB5: 3250000000 | AC5: 3111000000 | AD5: 2835000000 | AE5: 2926000000 | AF5: 3173000000 | AG5: 3335000000 | AH5: 3181000000 | AI5: 3496000000 | AK5: =AU5-AH5-AI5-AJ5 -> 3786000000 | AM5: 9407000000 | AN5: =SUM(F5:I5) -> 8877000000 | AO5: =SUM(J5:M5) -> 8612000000 | AP5: =N5+O5+P5+Q5 -> 11063000000 | AQ5: =SUM(R5:U5) -> 13205000000 | AR5: 13276000000 | AS5: 12614000000 | AT5: 12269000000 | AU5: 10463000000
A6: Cost of revenue | B6: -1097000000 | C6: -1110000000 | D6: -1189000000 | E6: -1160000000 | F6: -1022000000 | G6: -1066000000 | H6: -1079000000 | I6: -1092000000 | J6: -1024000000 | K6: -957000000 | L6: -1177000000 | M6: -1219000000 | N6: -1212000000 | O6: -1174000000 | P6: -1278000000 | Q6: -1332000000 | R6: -1359000000 | S6: -1430000000 | T6: -1478000000 | U6: -1421000000 | V6: -1351000000 | W6: -1418000000 | X6: -1469000000 | Y6: -1485000000 | Z6: -1343000000 | AA6: -1335000000 | AB6: -1384000000 | AC6: -1433000000 | AD6: -1275000000 | AE6: -1364000000 | AF6: -1386000000 | AG6: -1528000000 | AH6: -1393000000 | AI6: -1494000000 | AK6: =AU6-AH6-AI6-AJ6 -> -1597000000 | AM6: -4556000000 | AN6: =SUM(F6:I6) -> -4259000000 | AO6: =SUM(J6:M6) -> -4377000000 | AP6: =N6+O6+P6+Q6 -> -4996000000 | AQ6: =SUM(R6:U6) -> -5688000000 | AR6: -5723000000 | AS6: -5495000000 | AT6: -5553000000 | AU6: -4484000000
A8: Gross profit | B8: 1172000000 | C8: 1180000000 | D8: 1256000000 | E8: 1243000000 | F8: 1072000000 | G8: 1151000000 | H8: 1186000000 | I8: 1209000000 | J8: 997000000 | K8: 860000000 | L8: 1090000000 | M8: 1288000000 | N8: 1355000000 | O8: 1422000000 | P8: 1583000000 | Q8: 1707000000 | R8: 1777000000 | S8: 1882000000 | T8: 1967000000 | U8: 1891000000 | V8: 1770000000 | W8: 1881000000 | X8: 1965000000 | Y8: 1937000000 | Z8: 1783000000 | AA8: 1792000000 | AB8: 1866000000 | AC8: 1678000000 | AD8: 1560000000 | AE8: 1562000000 | AF8: 1787000000 | AG8: 1807000000 | AH8: 1788000000 | AI8: 2002000000 | AK8: =AU8-AH8-AI8-AJ8 -> 2189000000 | AM8: 4851000000 | AN8: =SUM(F8:I8) -> 4618000000 | AO8: =SUM(J8:M8) -> 4235000000 | AP8: =N8+O8+P8+Q8 -> 6067000000 | AQ8: =SUM(R8:U8) -> 7517000000 | AR8: 7553000000 | AS8: 7119000000 | AT8: 6716000000 | AU8: 5979000000
A10: Research and development | B10: -426000000 | C10: -438000000 | D10: -433000000 | E10: -403000000 | F10: -415000000 | G10: -408000000 | H10: -396000000 | I10: -424000000 | J10: -425000000 | K10: -402000000 | L10: -438000000 | M10: -460000000 | N10: -461000000 | O10: -476000000 | P10: -492000000 | Q10: -507000000 | R10: -518000000 | S10: -542000000 | T10: -548000000 | U10: -540000000 | V10: -577000000 | W10: -589000000 | X10: -601000000 | Y10: -651000000 | Z10: -564000000 | AA10: -594000000 | AB10: -577000000 | AC10: -612000000 | AD10: -547000000 | AE10: -573000000 | AF10: -575000000 | AG10: -665000000 | AH10: -588000000 | AI10: -604000000 | AK10: =AU10-AH10-AI10-AJ10 -> -615000000 | AM10: -1700000000 | AN10: =SUM(F10:I10) -> -1643000000 | AO10: =SUM(J10:M10) -> -1725000000 | AP10: =N10+O10+P10+Q10 -> -1936000000 | AQ10: =SUM(R10:U10) -> -2148000000 | AR10: -2418000000 | AS10: -2347000000 | AT10: -2360000000 | AU10: -1807000000
A11: Selling, general and administrative | B11: -248000000 | C11: -242000000 | D11: -252000000 | E11: -251000000 | F11: -248000000 | G11: -230000000 | H11: -221000000 | I11: -225000000 | J11: -233000000 | K11: -222000000 | L11: -203000000 | M11: -221000000 | N11: -222000000 | O11: -234000000 | P11: -243000000 | Q11: -257000000 | R11: -251000000 | S11: -265000000 | T11: -289000000 | U11: -261000000 | V11: -280000000 | W11: -274000000 | X11: -294000000 | Y11: -311000000 | Z11: -306000000 | AA11: -270000000 | AB11: -265000000 | AC11: -323000000 | AD11: -281000000 | AE11: -278000000 | AF11: -286000000 | AG11: -359000000 | AH11: -284000000 | AI11: -291000000 | AK11: =AU11-AH11-AI11-AJ11 -> -313000000 | AM11: -993000000 | AN11: =SUM(F11:I11) -> -924000000 | AO11: =SUM(J11:M11) -> -879000000 | AP11: =N11+O11+P11+Q11 -> -956000000 | AQ11: =SUM(R11:U11) -> -1066000000 | AR11: -1159000000 | AS11: -1164000000 | AT11: -1204000000 | AU11: -888000000
A12: Amortization of acquisition-related intangible assets | B12: -360000000 | C12: -363000000 | D12: -362000000 | E12: -364000000 | F12: -357000000 | G12: -355000000 | H12: -358000000 | I12: -365000000 | J12: -381000000 | K12: -380000000 | L12: -418000000 | M12: -148000000 | N12: -180000000 | O12: -139000000 | P12: -137000000 | Q12: -136000000 | R12: -135000000 | S12: -134000000 | T12: -131000000 | U12: -109000000 | V12: -85000000 | W12: -81000000 | X12: -71000000 | Y12: -63000000 | Z12: -51000000 | AA12: -28000000 | AB12: -29000000 | AC12: -28000000 | AD12: -27000000 | AE12: -25000000 | AF12: -31000000 | AG12: -34000000 | AH12: -32000000 | AI12: -31000000 | AK12: =AU12-AH12-AI12-AJ12 -> -30000000 | AM12: -1449000000 | AN12: =SUM(F12:I12) -> -1435000000 | AO12: =SUM(J12:M12) -> -1327000000 | AP12: =N12+O12+P12+Q12 -> -592000000 | AQ12: =SUM(R12:U12) -> -509000000 | AR12: -300000000 | AS12: -136000000 | AT12: -117000000 | AU12: -93000000
A13: Total operating expenses | B13: -1034000000 | C13: -1043000000 | D13: -1047000000 | E13: -1018000000 | F13: -1020000000 | G13: -993000000 | H13: -975000000 | I13: -1014000000 | J13: -1039000000 | K13: -1004000000 | L13: -1059000000 | M13: -829000000 | N13: -863000000 | O13: -849000000 | P13: -872000000 | Q13: -900000000 | R13: -904000000 | S13: -941000000 | T13: -968000000 | U13: -910000000 | V13: -942000000 | W13: -944000000 | X13: -966000000 | Y13: -1025000000 | Z13: -921000000 | AA13: -892000000 | AB13: -871000000 | AC13: -963000000 | AD13: -855000000 | AE13: -876000000 | AF13: -892000000 | AG13: -1058000000 | AH13: -904000000 | AI13: -926000000 | AK13: =AU13-AH13-AI13-AJ13 -> -958000000 | AM13: -4142000000 | AN13: =SUM(F13:I13) -> -4002000000 | AO13: =SUM(J13:M13) -> -3931000000 | AP13: =N13+O13+P13+Q13 -> -3484000000 | AQ13: =SUM(R13:U13) -> -3723000000 | AR13: -3877000000 | AS13: -3647000000 | AT13: -3681000000 | AU13: -2788000000
A15: Other income (expense) | B15: 0 | C15: 0 | D15: 2002000000 | E15: -1000000 | F15: 2000000 | G15: -1000000 | H15: 22000000 | I15: 2000000 | J15: 110000000 | K15: -1000000 | L15: 1000000 | M15: 4000000 | N15: 0 | O15: 0 | P15: 0 | Q15: 0 | R15: 0 | S15: 2000000 | T15: 2000000 | U15: -1000000 | V15: -3000000 | W15: 0 | X15: -7000000 | Y15: -5000000 | Z15: -6000000 | AA15: -4000000 | AB15: -5000000 | AC15: -40000000 | AD15: 18000000 | AE15: 1000000 | AF15: -2000000 | AG15: -5000000 | AH15: 621000000 | AI15: -5000000 | AK15: =AU15-AH15-AI15-AJ15 -> -3000000 | AM15: 2001000000 | AN15: =SUM(F15:I15) -> 25000000 | AO15: =SUM(J15:M15) -> 114000000 | AP15: =N15+O15+P15+Q15 -> 0 | AQ15: =SUM(R15:U15) -> 3000000 | AR15: -15000000 | AS15: -55000000 | AT15: 12000000 | AU15: 613000000
A17: Operating income (loss) | B17: 138000000 | C17: 137000000 | D17: 2211000000 | E17: 224000000 | F17: 54000000 | G17: 157000000 | H17: 233000000 | I17: 197000000 | J17: 68000000 | K17: -145000000 | L17: 32000000 | M17: 463000000 | N17: 492000000 | O17: 573000000 | P17: 711000000 | Q17: 807000000 | R17: 873000000 | S17: 943000000 | T17: 1001000000 | U17: 980000000 | V17: 825000000 | W17: 937000000 | X17: 992000000 | Y17: 907000000 | Z17: 856000000 | AA17: 896000000 | AB17: 990000000 | AC17: 675000000 | AD17: 723000000 | AE17: 687000000 | AF17: 893000000 | AG17: 744000000 | AH17: 1505000000 | AI17: 1071000000 | AK17: =AU17-AH17-AI17-AJ17 -> 1228000000 | AM17: 2710000000 | AN17: =SUM(F17:I17) -> 641000000 | AO17: =SUM(J17:M17) -> 418000000 | AP17: =N17+O17+P17+Q17 -> 2583000000 | AQ17: =SUM(R17:U17) -> 3797000000 | AR17: 3661000000 | AS17: 3417000000 | AT17: 3047000000 | AU17: 3804000000
A19: Financial income (expense):
A20: Interest income (expense), net | B20: -62000000 | C20: -49000000 | D20: -48000000 | E20: -66000000 | F20: -74000000 | G20: -77000000 | H20: -81000000 | I20: -81000000 | J20: -78000000 | K20: -90000000 | L20: -97000000 | M20: -84000000 | N20: -86000000 | O20: -89000000 | P20: -95000000 | Q20: -95000000 | R20: -102000000 | S20: -100000000 | T20: -88000000 | U20: -76000000 | V20: -69000000 | W20: -66000000 | X20: -60000000 | Y20: -56000000 | Z20: -55000000 | AA20: -58000000 | AB20: -60000000 | AC20: -65000000 | AD20: -71000000 | AE20: -76000000 | AF20: -81000000 | AG20: -93000000 | AH20: -83000000 | AI20: -83000000 | AK20: =AU20-AH20-AI20-AJ20 -> -74000000 | AM20: -225000000 | AN20: -313000000 | AO20: =SUM(J20:M20) -> -349000000 | AP20: =N20+O20+P20+Q20 -> -365000000 | AQ20: =SUM(R20:U20) -> -366000000 | AR20: -251000000 | AS20: -238000000 | AT20: -321000000 | AU20: -240000000
A21: Extinguishment of debt | B21: 0 | C21: -26000000 | D21: 0 | E21: 0 | F21: 0 | G21: -10000000 | H21: -1000000 | I21: 0 | J21: 0 | K21: 0 | L21: 0 | M21: -60000000 | N21: 0 | O21: 0 | P21: 0 | Q21: -22000000 | R21: 0 | S21: -18000000 | T21: 0 | U21: 0 | V21: 0 | W21: 0 | X21: 0 | Y21: 0 | Z21: 0 | AA21: 0 | AB21: 0 | AC21: 0 | AD21: 0 | AE21: 0 | AF21: 0 | AG21: 0 | AH21: 0 | AI21: 0 | AK21: =AU21-AH21-AI21-AJ21 -> 0 | AM21: -26000000 | AN21: =SUM(F21:I21) -> -11000000 | AO21: =SUM(J21:M21) -> -60000000 | AP21: =N21+O21+P21+Q21 -> -22000000 | AQ21: =SUM(R21:U21) -> -18000000 | AR21: 0 | AS21: 0 | AT21: 0 | AU21: 0
A22: Other financial income (expense) | B22: -6000000 | C22: 4000000 | D22: -71000000 | E22: -11000000 | F22: -9000000 | G22: -2000000 | H22: -3000000 | I22: -12000000 | J22: 0 | K22: -6000000 | L22: -9000000 | M22: 7000000 | N22: -1000000 | O22: -11000000 | P22: 2000000 | Q22: -6000000 | R22: -3000000 | S22: -10000000 | T22: -10000000 | U22: -27000000 | V22: -13000000 | W22: -8000000 | X22: -15000000 | Y22: -22000000 | Z22: -15000000 | AA22: -17000000 | AB22: -22000000 | AC22: -26000000 | AD22: -21000000 | AE22: -10000000 | AF22: -17000000 | AG22: -15000000 | AH22: -13000000 | AI22: -14000000 | AK22: =AU22-AH22-AI22-AJ22 -> -23000000 | AM22: -84000000 | AN22: =SUM(F22:I22) -> -26000000 | AO22: =SUM(J22:M22) -> -8000000 | AP22: =N22+O22+P22+Q22 -> -16000000 | AQ22: =SUM(R22:U22) -> -50000000 | AR22: -58000000 | AS22: -80000000 | AT22: -63000000 | AU22: -50000000
A24: Income (loss) before income taxes | B24: 70000000 | C24: 66000000 | D24: 2092000000 | E24: 147000000 | F24: -29000000 | G24: 68000000 | H24: 148000000 | I24: 104000000 | J24: -10000000 | K24: -241000000 | L24: -74000000 | M24: 326000000 | N24: 405000000 | O24: 473000000 | P24: 618000000 | Q24: 684000000 | R24: 768000000 | S24: 815000000 | T24: 903000000 | U24: 877000000 | V24: 743000000 | W24: 863000000 | X24: 917000000 | Y24: 829000000 | Z24: 786000000 | AA24: 821000000 | AB24: 908000000 | AC24: 584000000 | AD24: 631000000 | AE24: 601000000 | AF24: 795000000 | AG24: 636000000 | AH24: 1409000000 | AI24: 974000000 | AK24: =AU24-AH24-AI24-AJ24 -> 1131000000 | AM24: 2375000000 | AN24: =SUM(F24:I24) -> 291000000 | AO24: =SUM(J24:M24) -> 1000000 | AP24: =N24+O24+P24+Q24 -> 2180000000 | AQ24: =SUM(R24:U24) -> 3363000000 | AR24: 3352000000 | AS24: 3099000000 | AT24: 2663000000 | AU24: 3514000000
A26: Benefit (provision) for income taxes | B26: -2000000 | C26: -4000000 | D26: -311000000 | E26: 141000000 | F26: 9000000 | G26: -21000000 | H26: -28000000 | I26: 20000000 | J26: -2000000 | K26: 33000000 | L26: 57000000 | M26: -5000000 | N26: -40000000 | O26: -65000000 | P26: -95000000 | Q26: -72000000 | R26: -114000000 | S26: -129000000 | T26: -149000000 | U26: -137000000 | V26: -118000000 | W26: -158000000 | X26: -123000000 | Y26: -124000000 | Z26: -141000000 | AA26: -154000000 | AB26: -173000000 | AC26: -77000000 | AD26: -130000000 | AE26: -116000000 | AF26: -148000000 | AG26: -131000000 | AH26: -272000000 | AI26: -189000000 | AK26: =AU26-AH26-AI26-AJ26 -> -228000000 | AM26: -176000000 | AN26: =SUM(F26:I26) -> -20000000 | AO26: =SUM(J26:M26) -> 83000000 | AP26: =N26+O26+P26+Q26 -> -272000000 | AQ26: =SUM(R26:U26) -> -529000000 | AR26: -523000000 | AS26: -545000000 | AT26: -525000000 | AU26: -689000000
A27: Results relating to equity-accounted investees | B27: 2000000 | C27: 4000000 | D27: 52000000 | E27: 1000000 | F27: 4000000 | G27: -1000000 | H27: -1000000 | I27: -1000000 | J27: -1000000 | K27: -1000000 | L27: -1000000 | M27: -1000000 | N27: -1000000 | O27: -2000000 | P27: 3000000 | Q27: -2000000 | R27: 12000000 | S27: -3000000 | T27: -4000000 | U27: -6000000 | V27: -2000000 | W27: -1000000 | X27: -2000000 | Y27: -2000000 | Z27: -1000000 | AA27: -3000000 | AB27: -6000000 | AC27: -2000000 | AD27: -4000000 | AE27: -28000000 | AF27: -1000000 | AG27: -37000000 | AH27: -4000000 | AI27: -3000000 | AK27: =AU27-AH27-AI27-AJ27 -> -4000000 | AM27: 59000000 | AN27: =SUM(F27:I27) -> 1000000 | AO27: =SUM(J27:M27) -> -4000000 | AP27: =N27+O27+P27+Q27 -> -2000000 | AQ27: =SUM(R27:U27) -> -1000000 | AR27: -7000000 | AS27: -12000000 | AT27: -70000000 | AU27: -11000000
A29: Income (loss) from continuing operations | B29: 70000000 | C29: 66000000 | D29: 1833000000 | E29: 289000000 | F29: -16000000 | G29: 46000000 | H29: 119000000 | I29: 123000000 | J29: -13000000 | K29: -209000000 | L29: -18000000 | M29: 320000000 | N29: 364000000 | O29: 406000000 | P29: 526000000 | Q29: 610000000 | R29: 666000000 | S29: 683000000 | T29: 750000000 | U29: 734000000 | V29: 623000000 | W29: 704000000 | X29: 792000000 | Y29: 703000000 | Z29: 644000000 | AA29: 664000000 | AB29: 729000000 | AC29: 505000000 | AD29: 497000000 | AE29: 457000000 | AF29: 646000000 | AG29: 468000000 | AH29: 1133000000 | AI29: 782000000 | AK29: =AU29-AH29-AI29-AJ29 -> 899000000 | AM29: 2258000000 | AN29: =SUM(F29:I29) -> 272000000 | AO29: =SUM(J29:M29) -> 80000000 | AP29: =N29+O29+P29+Q29 -> 1906000000 | AQ29: =SUM(R29:U29) -> 2833000000 | AR29: 2822000000 | AS29: 2542000000 | AT29: 2068000000 | AU29: =SUM(AU24:AU27) -> 2814000000
A31: Income (loss) from discontinued operations, net of tax
A33: Net income (loss) | B33: 70000000 | C33: 66000000 | D33: 1833000000 | E33: 289000000 | F33: -16000000 | G33: 46000000 | H33: 119000000 | I33: 123000000 | J33: -13000000 | K33: -209000000 | L33: -18000000 | M33: 320000000 | N33: 364000000 | O33: 406000000 | P33: 526000000 | Q33: 610000000 | R33: 666000000 | S33: 683000000 | T33: 750000000 | U33: 734000000 | V33: 623000000 | W33: 704000000 | X33: 792000000 | Y33: 703000000 | Z33: 644000000 | AA33: 664000000 | AB33: 729000000 | AC33: 505000000 | AD33: 497000000 | AE33: 457000000 | AF33: 646000000 | AG33: 468000000 | AH33: 1133000000 | AI33: 782000000 | AK33: =AU33-AH33-AI33-AJ33 -> 899000000 | AM33: 2258000000 | AN33: 272000000 | AO33: 80000000 | AP33: 1906000000 | AQ33: 2833000000 | AR33: 2822000000 | AS33: 2542000000 | AT33: 2068000000 | AU33: 2814000000
A35: Net (income) loss attributable to non-controlling interests | B35: -12000000 | C35: -12000000 | D35: -13000000 | E35: -13000000 | F35: -5000000 | G35: -5000000 | H35: -10000000 | I35: -9000000 | J35: -8000000 | K35: -5000000 | L35: -4000000 | M35: -11000000 | N35: -11000000 | O35: -9000000 | P35: -7000000 | Q35: -8000000 | R35: -9000000 | S35: -13000000 | T35: -12000000 | U35: -12000000 | V35: -8000000 | W35: -6000000 | X35: -5000000 | Y35: -6000000 | Z35: -5000000 | AA35: -6000000 | AB35: -11000000 | AC35: -10000000 | AD35: -7000000 | AE35: -12000000 | AF35: -15000000 | AG35: -13000000 | AH35: -11000000 | AI35: -15000000 | AK35: =AU35-AH35-AI35-AJ35 -> -15000000 | AM35: -50000000 | AN35: =SUM(F35:I35) -> -29000000 | AO35: =SUM(J35:M35) -> -28000000 | AP35: =N35+O35+P35+Q35 -> -35000000 | AQ35: =SUM(R35:U35) -> -46000000 | AR35: -25000000 | AS35: -32000000 | AT35: -47000000 | AU35: =-AV35 -> -41000000 | AV35: 41000000
A37: Net income (loss) attributable to stockholders | B37: 58000000 | C37: 54000000 | D37: 1820000000 | E37: 276000000 | F37: -21000000 | G37: 41000000 | H37: 109000000 | I37: 114000000 | J37: -21000000 | K37: -214000000 | L37: -22000000 | M37: 309000000 | N37: 353000000 | O37: 397000000 | P37: 519000000 | Q37: 602000000 | R37: 657000000 | S37: 670000000 | T37: 738000000 | U37: 722000000 | V37: 615000000 | W37: 698000000 | X37: 787000000 | Y37: 697000000 | Z37: 639000000 | AA37: 658000000 | AB37: 718000000 | AC37: 495000000 | AD37: 490000000 | AE37: 445000000 | AF37: 631000000 | AG37: 455000000 | AH37: 1122000000 | AI37: 767000000 | AK37: =AU37-AH37-AI37-AJ37 -> 884000000 | AM37: 2208000000 | AN37: =SUM(F37:I37) -> 243000000 | AO37: =SUM(J37:M37) -> 52000000 | AP37: =N37+O37+P37+Q37 -> 1871000000 | AQ37: =SUM(R37:U37) -> 2787000000 | AR37: 2797000000 | AS37: 2510000000 | AT37: 2021000000 | AU37: 2773000000
A39: Earnings per share data:
A40: Net income (loss) attributable to stockholders per common share in $:
A41: Basic earnings per common share in $
A42: Income (loss) from continuing operations | B42: 0.17 | C42: 0.16 | D42: 5.64 | E42: 0.9414333 | F42: -0.07 | G42: 0.15 | H42: 0.39 | I42: 0.41 | J42: -0.08 | K42: -0.77 | L42: -0.08 | M42: 1.1 | N42: 1.27 | O42: 1.46 | P42: 1.95 | Q42: 2.27 | R42: 2.5 | S42: 2.55 | T42: 2.81 | U42: 2.78 | V42: 2.37 | W42: 2.69 | X42: 3.06 | Y42: 2.71 | Z42: 2.49 | AA42: 2.58 | AB42: 2.82 | AC42: 1.95 | AD42: 1.93 | AE42: 1.76 | AF42: 2.5022802 | AG42: 1.8016662 | AH42: 4.4397839 | AI42: 3.0386467 | AK42: =AK37/AK51 -> 3.5062251 | AM42: 6.7775592 | AN42: 0.86 | AO42: 0.19 | AP42: 6.91 | AQ42: 10.64 | AR42: 10.83 | AS42: 9.84 | AT42: 8 | AU42: 10.99
A43: Income (loss) from discontinued operations | B43: 0 | C43: 0 | D43: 0 | E43: - | F43: - | G43: 0 | H43: 0 | I43: - | J43: 0 | K43: 0 | L43: 0 | M43: 0 | N43: 0 | O43: 0 | P43: 0 | Q43: 0 | R43: 0 | S43: 0 | T43: 0 | U43: 0 | V43: 0 | W43: 0 | X43: 0 | Y43: 0 | Z43: 0 | AA43: 0 | AB43: 0 | AC43: 0 | AD43: 0 | AE43: 0 | AF43: 0 | AG43: 0 | AH43: 0 | AI43: 0 | AK43: 0 | AM43: - | AN43: 0 | AO43: 0 | AP43: 0 | AQ43: 0 | AR43: 0 | AS43: 0 | AT43: 0 | AU43: 0
A44: Net income (loss) | B44: 0.17 | C44: 0.16 | D44: 5.64 | E44: 0.9414333 | F44: -0.07 | G44: 0.15 | H44: 0.39 | I44: 0.41 | J44: -0.08 | K44: -0.77 | L44: -0.08 | M44: 1.1 | N44: 1.27 | O44: 1.46 | P44: 1.95 | Q44: 2.27 | R44: 2.5 | S44: 2.55 | T44: 2.81 | U44: 2.78 | V44: 2.37 | W44: 2.69 | X44: 3.06 | Y44: 2.71 | Z44: 2.49 | AA44: 2.58 | AB44: 2.82 | AC44: 1.95 | AD44: 1.93 | AE44: 1.76 | AF44: 2.5022802 | AG44: 1.8016662 | AH44: 4.4397839 | AI44: 3.0386467 | AK44: =SUM(AK42:AK43) -> 3.5062251 | AM44: 6.7775592 | AN44: 0.86 | AO44: 0.19 | AP44: 6.91 | AQ44: 10.64 | AR44: 10.83 | AS44: 9.84 | AT44: 8 | AU44: =SUM(AU42:AU43) -> 10.99
A45: Diluted earnings per common share in $
A46: Income (loss) from continuing operations | B46: 0.17 | C46: 0.16 | D46: 5.6 | E46: 0.93576134 | F46: -0.07 | G46: 0.14 | H46: 0.38 | I46: 0.4 | J46: -0.08 | K46: -0.77 | L46: -0.08 | M46: 1.08 | N46: 1.25 | O46: 1.42 | P46: 1.91 | Q46: 2.24 | R46: 2.48 | S46: 2.53 | T46: 2.79 | U46: 2.76 | V46: 2.35 | W46: 2.67 | X46: 3.01 | Y46: 2.68 | Z46: 2.47 | AA46: 2.54 | AB46: 2.79 | AC46: 1.93 | AD46: 1.92 | AE46: 1.75 | AF46: 2.4812237 | AG46: 1.7907887 | AH46: 4.4255991 | AI46: 3.0194354 | AK46: =AK37/AK52 -> 3.4826321 | AM46: 6.719293 | AN46: 0.85 | AO46: 0.18 | AP46: 6.79 | AQ46: 10.55 | AR46: 10.7 | AS46: 9.73 | AT46: 7.95 | AU46: 10.92
A47: Income (loss) from discontinued operations | B47: 0 | C47: 0 | D47: 0 | E47: - | F47: - | G47: 0 | H47: 0 | I47: - | J47: 0 | K47: 0 | L47: 0 | M47: 0 | N47: 0 | O47: 0 | P47: 0 | Q47: 0 | R47: 0 | S47: 0 | T47: 0 | U47: 0 | V47: 0 | W47: 0 | X47: 0 | Y47: 0 | Z47: 0 | AA47: 0 | AB47: 0 | AC47: 0 | AD47: 0 | AE47: 0 | AF47: 0 | AG47: 0 | AH47: 0 | AI47: 0 | AK47: 0 | AM47: - | AN47: 0 | AO47: 0 | AP47: 0 | AQ47: 0 | AR47: 0 | AS47: 0 | AT47: 0 | AU47: 0
A48: Net income (loss) | B48: 0.17 | C48: 0.16 | D48: 5.6 | E48: 0.93576134 | F48: -0.07 | G48: 0.14 | H48: 0.38 | I48: 0.4 | J48: -0.08 | K48: -0.77 | L48: -0.08 | M48: 1.08 | N48: 1.25 | O48: 1.42 | P48: 1.91 | Q48: 2.24 | R48: 2.48 | S48: 2.53 | T48: 2.79 | U48: 2.76 | V48: 2.35 | W48: 2.67 | X48: 3.01 | Y48: 2.68 | Z48: 2.47 | AA48: 2.54 | AB48: 2.79 | AC48: 1.93 | AD48: 1.92 | AE48: 1.75 | AF48: 2.4812237 | AG48: 1.7907887 | AH48: 4.4255991 | AI48: 3.0194354 | AK48: =SUM(AK46:AK47) -> 3.4826321 | AM48: 6.719293 | AN48: 0.85 | AO48: 0.18 | AP48: 6.79 | AQ48: 10.55 | AR48: 10.7 | AS48: 9.73 | AT48: 7.95 | AU48: =SUM(AU46:AU47) -> 10.92
A50: Weighted average number of shares of common stock used in computing per share amounts (in thousands):
A51: - Basic | B51: 343661000 | C51: 344120000 | D51: 322533000 | E51: 293170000 | F51: 287227000 | G51: 281241000 | H51: 279074000 | I51: 280766000 | J51: 279933000 | K51: 279142000 | L51: 279467000 | M51: 280484000 | N51: 277526000 | O51: 272686000 | P51: 266557000 | Q51: 265642000 | R51: 263089000 | S51: 262579000 | T51: 262180000 | U51: 259618000 | V51: 259576000 | W51: 259160000 | X51: 257488000 | Y51: 257285000 | Z51: 256567000 | AA51: 255478000 | AB51: 254458000 | AC51: 254349000 | AD51: 253709000 | AE51: 252418000 | AF51: 252170000 | AG51: 252544000 | AH51: 252715000 | AI51: 252415000 | AK51: 252123000 | AM51: 325781000 | AN51: 282056000 | AO51: 279763000 | AP51: 270687000 | AQ51: 261879000 | AR51: 258381000 | AS51: 255208000 | AT51: 252703000 | AU51: 252414000
A52: - Diluted | B52: 346899000 | C52: 347027000 | D52: 325267000 | E52: 294947000 | F52: 287227000 | G52: 285088000 | H52: 283518000 | I52: 285518000 | J52: 279933000 | K52: 279142000 | L52: 279467000 | M52: 285258000 | N52: 283263000 | O52: 278735000 | P52: 271359000 | Q52: 268545000 | R52: 265109000 | S52: 264692000 | T52: 264705000 | U52: 261448000 | V52: 261210000 | W52: 261303000 | X52: 261095000 | Y52: 260298000 | Z52: 258954000 | AA52: 258732000 | AB52: 257717000 | AC52: 256628000 | AD52: 255018000 | AE52: 253844000 | AF52: 254310000 | AG52: 254078000 | AH52: 253525000 | AI52: 254021000 | AK52: 253831000 | AM52: 328606000 | AN52: 285911000 | AO52: 283809000 | AP52: 275646000 | AQ52: 264053000 | AR52: 261370000 | AS52: 257848000 | AT52: 254331000 | AU52: 253845000
A54: Cash dividends declared per share | D54: 0.25 | E54: 0.25 | F54: 0.25 | G54: 0.25 | H54: 0.375 | I54: 0.375 | J54: 0.375 | K54: 0.375 | L54: 0.375 | M54: 0.375 | N54: 0.5625 | O54: 0.5625 | P54: 0.5625 | Q54: 0.5625 | R54: 0.845 | S54: 0.845 | T54: 0.845 | U54: 0.845 | V54: 1.014 | W54: 1.014 | X54: 1.014 | Y54: 1.014 | Z54: 1.014 | AA54: 1.014 | AB54: 1.014 | AC54: 1.014 | AD54: 1.014 | AE54: 1.014 | AF54: 1.014 | AG54: 1.014 | AH54: 1.014 | AI54: 1.014 | AK54: 1.014 | AM54: 0.5 | AN54: =SUM(F54:I54) -> 1.25 | AO54: 1.5 | AP54: 2.25 | AQ54: =SUM(R54:U54) -> 3.38 | AR54: 4.056 | AS54: 4.056 | AT54: 4.056 | AU54: 3.042

Sheet Balance Sheet
A1: NXP Semiconductors
A2: Condensed consolidated balance sheets (unaudited)
A3: ($ in millions) | B3: Q1 2018 | C3: Q2 2018 | D3: Q3 2018 | E3: Q4 2018 | F3: Q1 2019 | G3: Q2 2019 | H3: Q3 2019 | I3: Q4 2019 | J3: Q1 2020 | K3: Q2 2020 | L3: Q3 2020 | M3: Q4 2020 | N3: Q1 2021 | O3: Q2 2021 | P3: Q3 2021 | Q3: Q4 2021 | R3: Q1 2022 | S3: Q2 2022 | T3: Q3 2022 | U3: Q4 2022 | V3: Q1 2023 | W3: Q2 2023 | X3: Q3 2023 | Y3: Q4 2023 | Z3: Q1 2024 | AA3: Q2 2024 | AB3: Q3 2024 | AC3: Q4 2024 | AD3: Q1 2025 | AE3: Q2 2025 | AF3: Q3 2025 | AG3: Q4 2025 | AH3: Q1 2026 | AI3: Q2 2026 | AJ3: Q3 2026
A5: Assets
A6: Current assets:
A7: Cash and cash equivalents | B7: 3983000000 | C7: 2981000000 | D7: 1944000000 | E7: 2789000000 | F7: 2192000000 | G7: 3030000000 | H7: 3537000000 | I7: 1045000000 | J7: 1079000000 | K7: 3266000000 | L7: 3566000000 | M7: 2275000000 | N7: 1842000000 | O7: 2910000000 | P7: 2303000000 | Q7: 2830000000 | R7: 2683000000 | S7: 3545000000 | T7: 3759000000 | U7: 3845000000 | V7: 3930000000 | W7: 3863000000 | X7: 4042000000 | Y7: 3862000000 | Z7: 2908000000 | AA7: 2859000000 | AB7: 2748000000 | AC7: 3292000000 | AD7: 3988000000 | AE7: 3170000000 | AF7: 3454000000 | AG7: 3267000000 | AH7: 3708000000 | AI7: 3222000000 | AJ7: 3943000000
A8: Short-term deposits | B8: 0 | C8: 0 | D8: 0 | E8: 0 | F8: 0 | G8: 0 | H8: 0 | I8: 0 | J8: 0 | K8: 0 | L8: 0 | M8: 0 | N8: 0 | O8: 0 | P8: 0 | Q8: 0 | R8: 0 | S8: 0 | T8: 0 | U8: 0 | V8: 0 | W8: 0 | X8: 0 | Y8: 409000000 | Z8: 400000000 | AA8: 400000000 | AB8: 400000000 | AC8: 0 | AD8: 0 | AE8: 0 | AF8: 500000000 | AG8: 0 | AH8: 0 | AI8: 0 | AJ8: 0
A9: Accounts receivable - net | B9: 791000000 | C9: 790000000 | D9: 845000000 | E9: 792000000 | F9: 800000000 | G9: 780000000 | H9: 786000000 | I9: 667000000 | J9: 616000000 | K9: 481000000 | L9: 755000000 | M9: 765000000 | N9: 833000000 | O9: 991000000 | P9: 979000000 | Q9: 923000000 | R9: 925000000 | S9: 996000000 | T9: 1012000000 | U9: 960000000 | V9: 1063000000 | W9: 1061000000 | X9: 939000000 | Y9: 894000000 | Z9: 881000000 | AA9: 927000000 | AB9: 1070000000 | AC9: 1032000000 | AD9: 1060000000 | AE9: 1071000000 | AF9: 1095000000 | AG9: 1055000000 | AH9: 1186000000 | AI9: 1274000000 | AJ9: 1260000000
A10: Assets held for sale | B10: 0 | C10: 0 | D10: 0 | E10: 0 | F10: 0 | G10: 81000000 | H10: 61000000 | I10: 50000000 | J10: 0 | K10: 0 | L10: 0 | M10: 0 | N10: 0 | O10: 0 | P10: 0 | Q10: 0 | R10: 0 | S10: 0 | T10: 0 | U10: 0 | V10: 0 | W10: 0 | X10: 0 | Y10: 0 | Z10: 0 | AA10: 0 | AB10: 0 | AC10: 0 | AD10: 0 | AE10: 294000000 | AF10: 292000000 | AG10: 372000000 | AH10: 91000000 | AI10: 92000000 | AJ10: 92000000
A11: Inventories | B11: 1251000000 | C11: 1326000000 | D11: 1284000000 | E11: 1279000000 | F11: 1241000000 | G11: 1144000000 | H11: 1134000000 | I11: 1192000000 | J11: 1227000000 | K11: 1228000000 | L11: 1064000000 | M11: 1030000000 | N11: 1056000000 | O11: 1116000000 | P11: 1173000000 | Q11: 1189000000 | R11: 1311000000 | S11: 1462000000 | T11: 1581000000 | U11: 1782000000 | V11: 1977000000 | W11: 2107000000 | X11: 2140000000 | Y11: 2134000000 | Z11: 2102000000 | AA11: 2148000000 | AB11: 2234000000 | AC11: 2356000000 | AD11: 2350000000 | AE11: 2361000000 | AF11: 2452000000 | AG11: 2577000000 | AH11: 2523000000 | AI11: 2557000000 | AJ11: 2596000000
A12: Other current assets | B12: 536000000 | C12: 414000000 | D12: 330000000 | E12: 365000000 | F12: 387000000 | G12: 396000000 | H12: 426000000 | I12: 313000000 | J12: 327000000 | K12: 240000000 | L12: 219000000 | M12: 254000000 | N12: 293000000 | O12: 274000000 | P12: 266000000 | Q12: 286000000 | R12: 356000000 | S12: 317000000 | T12: 351000000 | U12: 348000000 | V12: 387000000 | W12: 416000000 | X12: 495000000 | Y12: 565000000 | Z12: 603000000 | AA12: 546000000 | AB12: 574000000 | AC12: 625000000 | AD12: 627000000 | AE12: 790000000 | AF12: 716000000 | AG12: 669000000 | AH12: 644000000 | AI12: 539000000 | AJ12: 544000000
A13: Total current assets | B13: 6561000000 | C13: 5511000000 | D13: 4403000000 | E13: 5225000000 | F13: 4620000000 | G13: 5431000000 | H13: 5944000000 | I13: 3267000000 | J13: 3249000000 | K13: 5215000000 | L13: 5604000000 | M13: 4324000000 | N13: 4024000000 | O13: 5291000000 | P13: 4721000000 | Q13: 5228000000 | R13: 5275000000 | S13: 6320000000 | T13: 6703000000 | U13: 6935000000 | V13: 7357000000 | W13: 7447000000 | X13: 7616000000 | Y13: 7864000000 | Z13: 6894000000 | AA13: 6880000000 | AB13: 7026000000 | AC13: 7305000000 | AD13: 8025000000 | AE13: 7686000000 | AF13: 8509000000 | AG13: 7940000000 | AH13: 8152000000 | AI13: 7684000000 | AJ13: 8435000000
A15: Non-current assets:
A16: Investments in equity-accounted investees | B16: 0 | C16: 0 | D16: 0 | E16: 0 | F16: 0 | G16: 0 | H16: 0 | I16: 0 | J16: 0 | K16: 0 | L16: 0 | M16: 0 | N16: 0 | O16: 0 | P16: 0 | Q16: 0 | R16: 0 | S16: 0 | T16: 0 | U16: 0 | V16: 0 | W16: 0 | X16: 0 | Y16: 0
A17: Non-current assets of discontinued operations | B17: 0 | C17: 0 | D17: 0 | E17: 0 | F17: 0 | G17: 0 | H17: 0 | I17: 0 | J17: 0 | K17: 0 | L17: 0 | M17: 0 | N17: 0 | O17: 0 | P17: 0 | Q17: 0 | R17: 0 | S17: 0 | T17: 0 | U17: 0 | V17: 0 | W17: 0 | X17: 0 | Y17: 0
A18: Deferred tax assets | B18: 0 | C18: 0 | D18: 0 | E18: 0 | F18: 0 | G18: 0 | H18: 0 | I18: 0 | J18: 0 | K18: 0 | L18: 0 | M18: 0 | N18: 0 | O18: 0 | P18: 0 | Q18: 0 | R18: 0 | S18: 0 | T18: 0 | U18: 0 | V18: 0 | W18: 0 | X18: 0 | Y18: 992000000 | Z18: 1048000000 | AA18: 1067000000 | AB18: 1131000000 | AC18: 1251000000 | AD18: 1284000000 | AE18: 1306000000 | AF18: 1313000000 | AG18: 1213000000 | AH18: 1238000000 | AI18: 1242000000 | AJ18: 1297000000
A19: Other non-current assets | B19: 888000000 | C19: 793000000 | D19: 632000000 | E19: 545000000 | F19: 699000000 | G19: 706000000 | H19: 712000000 | I19: 732000000 | J19: 712000000 | K19: 760000000 | L19: 924000000 | M19: 1013000000 | N19: 1039000000 | O19: 1094000000 | P19: 1070000000 | Q19: 1346000000 | R19: 1701000000 | S19: 1848000000 | T19: 1940000000 | U19: 1942000000 | V19: 2095000000 | W19: 2136000000 | X19: 2236000000 | Y19: 1297000000 | Z19: 1290000000 | AA19: 1223000000 | AB19: 1510000000 | AC19: 1796000000 | AD19: 1942000000 | AE19: 1909000000 | AF19: 2186000000 | AG19: 2584000000 | AH19: 3037000000 | AI19: 3195000000 | AJ19: 3432000000
A20: Property, plant and equipment | B20: 2307000000 | C20: 2352000000 | D20: 2394000000 | E20: 2436000000 | F20: 2407000000 | G20: 2397000000 | H20: 2401000000 | I20: 2448000000 | J20: 2397000000 | K20: 2312000000 | L20: 2255000000 | M20: 2284000000 | N20: 2304000000 | O20: 2375000000 | P20: 2510000000 | Q20: 2635000000 | R20: 2814000000 | S20: 2914000000 | T20: 2971000000 | U20: 3105000000 | V20: 3123000000 | W20: 3152000000 | X20: 3197000000 | Y20: 3323000000 | Z20: 3304000000 | AA20: 3289000000 | AB20: 3309000000 | AC20: 3267000000 | AD20: 3210000000 | AE20: 3130000000 | AF20: 3086000000 | AG20: 2977000000 | AH20: 2901000000 | AI20: 2835000000 | AJ20: 2803000000
A21: Identified intangible assets | B21: 5494000000 | C21: 5127000000 | D21: 4762000000 | E21: 4467000000 | F21: 4094000000 | G21: 3737000000 | H21: 3406000000 | I21: 3620000000 | J21: 3218000000 | K21: 2824000000 | L21: 2380000000 | M21: 2242000000 | N21: 2057000000 | O21: 1891000000 | P21: 1741000000 | Q21: 1694000000 | R21: 1577000000 | S21: 1527000000 | T21: 1417000000 | U21: 1311000000 | V21: 1208000000 | W21: 1110000000 | X21: 1010000000 | Y21: 922000000 | Z21: 839000000 | AA21: 796000000 | AB21: 735000000 | AC21: 836000000 | AD21: 777000000 | AE21: 1121000000 | AF21: 1139000000 | AG21: 1547000000 | AH21: 1505000000 | AI21: 1441000000 | AJ21: 1381000000
A22: Goodwill | B22: 8877000000 | C22: 8861000000 | D22: 8865000000 | E22: 8857000000 | F22: 8852000000 | G22: 8788000000 | H22: 8791000000 | I22: 9949000000 | J22: 9935000000 | K22: 9946000000 | L22: 9959000000 | M22: 9984000000 | N22: 9968000000 | O22: 9971000000 | P22: 9968000000 | Q22: 9961000000 | R22: 9954000000 | S22: 9930000000 | T22: 9909000000 | U22: 9943000000 | V22: 9949000000 | W22: 9950000000 | X22: 9937000000 | Y22: 9955000000 | Z22: 9945000000 | AA22: 9941000000 | AB22: 9958000000 | AC22: 9930000000 | AD22: 9942000000 | AE22: 10098000000 | AF22: 10121000000 | AG22: 10299000000 | AH22: 10280000000 | AI22: 10268000000 | AJ22: 10259000000
A23: Total non-current assets | B23: 17566000000 | C23: 17133000000 | D23: 16653000000 | E23: 16305000000 | F23: 16052000000 | G23: 15628000000 | H23: 15310000000 | I23: 16749000000 | J23: 16262000000 | K23: 15842000000 | L23: 15518000000 | M23: 15523000000 | N23: 15368000000 | O23: 15331000000 | P23: 15289000000 | Q23: 15636000000 | R23: 16046000000 | S23: 16219000000 | T23: 16237000000 | U23: 16301000000 | V23: 16375000000 | W23: 16348000000 | X23: 16380000000 | Y23: 16489000000 | Z23: 16426000000 | AA23: 16316000000 | AB23: 16643000000 | AC23: 17080000000 | AD23: 17155000000 | AE23: 17564000000 | AF23: 17845000000 | AG23: 18620000000 | AH23: 18961000000 | AI23: 18981000000 | AJ23: 19172000000
A25: Total assets | B25: 24127000000 | C25: 22644000000 | D25: 21056000000 | E25: 21530000000 | F25: 20672000000 | G25: 21059000000 | H25: 21254000000 | I25: 20016000000 | J25: 19511000000 | K25: 21057000000 | L25: 21122000000 | M25: 19847000000 | N25: 19392000000 | O25: 20622000000 | P25: 20010000000 | Q25: 20864000000 | R25: 21321000000 | S25: 22539000000 | T25: 22940000000 | U25: 23236000000 | V25: 23732000000 | W25: 23795000000 | X25: 23996000000 | Y25: 24353000000 | Z25: 23320000000 | AA25: 23196000000 | AB25: 23669000000 | AC25: 24385000000 | AD25: 25180000000 | AE25: 25250000000 | AF25: 26354000000 | AG25: 26560000000 | AH25: 27113000000 | AI25: 26665000000 | AJ25: 27607000000
A27: Liabilities and equity
A28: Current liabilities: | F28: 0
A29: Accounts payable 1) | B29: 855000000 | C29: 930000000 | D29: 875000000 | E29: 923000000 | F29: 724000000 | G29: 716000000 | H29: 819000000 | I29: 903000000 | J29: 780000000 | K29: 640000000 | L29: 670000000 | M29: 958000000 | N29: 993000000 | O29: 1118000000 | P29: 1048000000 | Q29: 1111000000 | R29: 1132000000 | S29: 1191000000 | T29: 1114000000 | U29: 1185000000 | V29: 1002000000 | W29: 967000000 | X29: 959000000 | Y29: 1164000000 | Z29: 954000000 | AA29: 929000000 | AB29: 899000000 | AC29: 1017000000 | AD29: 863000000 | AE29: 892000000 | AF29: 886000000 | AG29: 997000000 | AH29: 904000000 | AI29: 984000000 | AJ29: 1089000000
A30: Liabilities held for sale | B30: 0 | C30: 0 | D30: 0 | E30: 0 | F30: 0 | G30: 0 | H30: 0 | I30: 0 | J30: 0 | K30: 0 | L30: 0 | M30: 0 | N30: 0 | O30: 0 | P30: 0 | Q30: 0 | R30: 0 | S30: 0 | T30: 0 | U30: 0 | V30: 0 | W30: 0 | X30: 0 | Y30: 0 | Z30: 0 | AA30: 0 | AB30: 0 | AC30: 0 | AD30: 0 | AE30: 0 | AF30: 0 | AG30: 0 | AH30: 0 | AI30: 0 | AJ30: 0
A31: Current liabilities of discontinued operations | B31: 0 | C31: 0 | D31: 0 | E31: 0 | F31: 0 | G31: 0 | H31: 0 | I31: 0 | J31: 0 | K31: 0 | L31: 0 | M31: 0 | N31: 0 | O31: 0 | P31: 0 | Q31: 0 | R31: 0 | S31: 0 | T31: 0 | U31: 0 | V31: 0 | W31: 0 | X31: 0 | Y31: 0 | Z31: 0 | AA31: 0 | AB31: 0 | AC31: 0 | AD31: 0 | AE31: 0 | AF31: 0 | AG31: 0 | AH31: 0 | AI31: 0 | AJ31: 0
A32: Restructuring liabilities - current | B32: 67000000 | C32: 64000000 | D32: 62000000 | E32: 60000000 | F32: 66000000 | G32: 53000000 | H32: 41000000 | I32: 32000000 | J32: 26000000 | K32: 25000000 | L32: 25000000 | M32: 60000000 | N32: 42000000 | O32: 36000000 | P32: 30000000 | Q32: 25000000 | R32: 16000000 | S32: 12000000 | T32: 8000000 | U32: 19000000 | V32: 27000000 | W32: 23000000 | X32: 16000000 | Y32: 92000000 | Z32: 68000000 | AA32: 62000000 | AB32: 52000000 | AC32: 147000000 | AD32: 75000000 | AE32: 65000000 | AF32: 49000000 | AG32: 189000000 | AH32: 133000000 | AI32: 111000000 | AJ32: 83000000
A33: Other current liabilities 1) | B33: 994000000 | C33: 854000000 | D33: 1657000000 | E33: 1295000000 | F33: 1355000000 | G33: 1037000000 | H33: 1124000000 | I33: 856000000 | J33: 1025000000 | K33: 978000000 | L33: 967000000 | M33: 999000000 | N33: 1230000000 | O33: 1182000000 | P33: 1361000000 | Q33: 1316000000 | R33: 1697000000 | S33: 1738000000 | T33: 2097000000 | U33: 2066000000 | V33: 2186000000 | W33: 2096000000 | X33: 1990000000 | Y33: 1855000000 | Z33: 1906000000 | AA33: 1622000000 | AB33: 1542000000 | AC33: 1434000000 | AD33: 1412000000 | AE33: 1471000000 | AF33: 1384000000 | AG33: 1445000000 | AH33: 1851000000 | AI33: 1672000000 | AJ33: 1799000000
A34: Short-term debt | B34: 1249000000 | C34: 2000000 | D34: 1002000000 | E34: 1107000000 | F34: 1117000000 | G34: 1177000000 | H34: 1142000000 | I34: 0 | J34: 0 | K34: 1349000000 | L34: 1749000000 | M34: 0 | N34: 0 | O34: 0 | P34: 999000000 | Q34: 0 | R34: 0 | S34: 0 | T34: 0 | U34: 0 | V34: 998000000 | W34: 999000000 | X34: 999000000 | Y34: 1000000000 | Z34: 0 | AA34: 499000000 | AB34: 499000000 | AC34: 500000000 | AD34: 1499000000 | AE34: 1999000000 | AF34: 1264000000 | AG34: 1250000000 | AH34: 750000000 | AI34: 999000000 | AJ34: 999000000
A35: Total current liabilities | B35: 3165000000 | C35: 1850000000 | D35: 3596000000 | E35: 3385000000 | F35: 3262000000 | G35: 2983000000 | H35: 3126000000 | I35: 1791000000 | J35: 1831000000 | K35: 2992000000 | L35: 3411000000 | M35: 2017000000 | N35: 2265000000 | O35: 2336000000 | P35: 3438000000 | Q35: 2452000000 | R35: 2845000000 | S35: 2941000000 | T35: 3219000000 | U35: 3270000000 | V35: 4213000000 | W35: 4085000000 | X35: 3964000000 | Y35: 4111000000 | Z35: 2928000000 | AA35: 3112000000 | AB35: 2992000000 | AC35: 3098000000 | AD35: 3849000000 | AE35: 4427000000 | AF35: 3583000000 | AG35: 3881000000 | AH35: 3638000000 | AI35: 3766000000 | AJ35: 3970000000
A37: Non-current liabilities:
A38: Long-term debt | B38: 5329000000 | C38: 5341000000 | D38: 5354000000 | E38: 6247000000 | F38: 6223000000 | G38: 7361000000 | H38: 7363000000 | I38: 7365000000 | J38: 7366000000 | K38: 8004000000 | L38: 7607000000 | M38: 7609000000 | N38: 7611000000 | O38: 9591000000 | P38: 8594000000 | Q38: 10572000000 | R38: 10573000000 | S38: 11160000000 | T38: 11162000000 | U38: 11165000000 | V38: 10169000000 | W38: 10171000000 | X38: 10173000000 | Y38: 10175000000 | Z38: 10178000000 | AA38: 9681000000 | AB38: 9683000000 | AC38: 10354000000 | AD38: 10226000000 | AE38: 9479000000 | AF38: 10971000000 | AG38: 10972000000 | AH38: 10974000000 | AI38: 9977000000 | AJ38: 9979000000
A39: Non-current liabilities of discontinued operations | B39: 0 | C39: 0 | D39: 0 | E39: 0 | F39: 0 | G39: 0 | H39: 0 | I39: 0 | J39: 0 | K39: 0 | L39: 0 | M39: 0 | N39: 0 | O39: 0 | P39: 0 | Q39: 0 | R39: 0 | S39: 0 | T39: 0 | U39: 0 | V39: 0 | W39: 0 | X39: 0 | Y39: 0 | Z39: 0 | AA39: 0 | AB39: 0 | AC39: 0 | AD39: 0 | AE39: 0 | AF39: 0 | AG39: 0 | AH39: 0 | AI39: 0 | AJ39: 0
A40: Restructuring liabilities - non-current | B40: 15000000 | C40: 9000000 | D40: 9000000 | E40: 5000000 | F40: 4000000 | G40: 0 | H40: 0 | I40: 0 | J40: 0 | K40: 0 | L40: 15000000 | M40: 14000000 | N40: 14000000 | O40: 12000000 | P40: 13000000 | Q40: 12000000 | R40: 14000000 | S40: 12000000 | T40: 12000000 | U40: 1000000 | V40: 7000000 | W40: 8000000 | X40: 3000000 | Y40: 9000000 | Z40: 9000000 | AA40: 7000000 | AB40: 4000000 | AC40: 10000000 | AD40: 4000000 | AE40: 60000000 | AF40: 60000000 | AG40: 81000000 | AH40: 76000000 | AI40: 65000000 | AJ40: 65000000
A41: Deferred tax liabilities | B41: 650000000 | C41: 579000000 | D41: 502000000 | E41: 450000000 | F41: 390000000 | G41: 337000000 | H41: 285000000 | I41: 282000000 | J41: 199000000 | K41: 136000000 | L41: 136000000 | M41: 85000000 | N41: 85000000 | O41: 90000000 | P41: 84000000 | Q41: 57000000 | R41: 53000000 | S41: 41000000 | T41: 39000000 | U41: 45000000 | V41: 38000000 | W41: 40000000 | X41: 44000000 | Y41: 0 | Z41: 0 | AA41: 0 | AB41: 0 | AC41: 0 | AD41: 0 | AE41: 0 | AF41: 0
A42: Other non-current liabilities | B42: 1078000000 | C42: 976000000 | D42: 790000000 | E42: 753000000 | F42: 862000000 | G42: 858000000 | H42: 885000000 | I42: 923000000 | J42: 857000000 | K42: 870000000 | L42: 880000000 | M42: 971000000 | N42: 896000000 | O42: 924000000 | P42: 909000000 | Q42: 1001000000 | R42: 1076000000 | S42: 1159000000 | T42: 1123000000 | U42: 1015000000 | V42: 1057000000 | W42: 1014000000 | X42: 1014000000 | Y42: 1098000000 | Z42: 1055000000 | AA42: 1051000000 | AB42: 1246000000 | AC42: 1392000000 | AD42: 1424000000 | AE42: 1348000000 | AF42: 1313000000 | AG42: 1175000000 | AH42: 1151000000 | AI42: 1096000000 | AJ42: 1128000000
A43: Total non-current liabilities | B43: 7072000000 | C43: 6905000000 | D43: 6655000000 | E43: 7455000000 | F43: 7479000000 | G43: 8556000000 | H43: 8533000000 | I43: 8570000000 | J43: 8422000000 | K43: 9010000000 | L43: 8638000000 | M43: 8679000000 | N43: 8606000000 | O43: 10617000000 | P43: 9600000000 | Q43: 11642000000 | R43: 11716000000 | S43: 12372000000 | T43: 12336000000 | U43: 12226000000 | V43: 11271000000 | W43: 11233000000 | X43: 11234000000 | Y43: 11282000000 | Z43: 11242000000 | AA43: 10739000000 | AB43: 10933000000 | AC43: 11756000000 | AD43: 11654000000 | AE43: 10887000000 | AF43: 12344000000 | AG43: 12228000000 | AH43: 12201000000 | AI43: 11138000000 | AJ43: 11172000000
A45: Non-controlling interests | B45: 201000000 | C45: 159000000 | D45: 172000000 | E45: 185000000 | F45: 190000000 | G45: 195000000 | H45: 205000000 | I45: 214000000 | J45: 222000000 | K45: 193000000 | L45: 197000000 | M45: 207000000 | N45: 218000000 | O45: 227000000 | P45: 234000000 | Q45: 242000000 | R45: 251000000 | S45: 264000000 | T45: 279000000 | U45: 291000000 | V45: 299000000 | W45: 305000000 | X45: 310000000 | Y45: 316000000 | Z45: 321000000 | AA45: 327000000 | AB45: 338000000 | AC45: 348000000 | AD45: 355000000 | AE45: 367000000 | AF45: 382000000 | AG45: 395000000 | AH45: 347000000 | AI45: 362000000 | AJ45: 377000000
A46: Stockholder's equity | B46: 13689000000 | C46: 13730000000 | D46: 10633000000 | E46: 10505000000 | F46: 9741000000 | G46: 9325000000 | H46: 9390000000 | I46: 9441000000 | J46: 9036000000 | K46: 8862000000 | L46: 8876000000 | M46: 8944000000 | N46: 8303000000 | O46: 7442000000 | P46: 6738000000 | Q46: 6528000000 | R46: 6509000000 | S46: 6962000000 | T46: 7106000000 | U46: 7449000000 | V46: 7949000000 | W46: 8172000000 | X46: 8488000000 | Y46: 8644000000 | Z46: 8829000000 | AA46: 9018000000 | AB46: 9406000000 | AC46: 9183000000 | AD46: 9322000000 | AE46: 9569000000 | AF46: 10045000000 | AG46: 10056000000 | AH46: 10927000000 | AI46: 11399000000 | AJ46: 12088000000
...

Sheet Cash Flow
A1: NXP Semiconductors
A2: Condensed consolidated statements of cash flows (unaudited) | AU2: YTD
A3: ($ in millions) | B3: Q1 2018 | C3: Q2 2018 | D3: Q3 2018 | E3: Q4 2018 | F3: Q1 2019 | G3: Q2 2019 | H3: Q3 2019 | I3: Q4 2019 | J3: Q1 2020 | K3: Q2 2020 | L3: Q3 2020 | M3: Q4 2020 | N3: Q1 2021 | O3: Q2 2021 | P3: Q3 2021 | Q3: Q4 2021 | R3: Q1 2022 | S3: Q2 2022 | T3: Q3 2022 | U3: Q4 2022 | V3: Q1 2023 | W3: Q2 2023 | X3: Q3 2023 | Y3: Q4 2023 | Z3: Q1 2024 | AA3: Q2 2024 | AB3: Q3 2024 | AC3: Q4 2024 | AD3: Q1 2025 | AE3: Q2 2025 | AF3: Q3 2025 | AG3: Q4 2025 | AH3: Q1 2026 | AI3: Q2 2026 | AK3: Q3 2026 | AM3: 2018 | AN3: 2019 | AO3: 2020 | AP3: 2021 | AQ3: 2022 | AR3: 2023 | AS3: 2024 | AT3: 2025 | AU3: 2026
A5: Cash Flows from operating activities
A6: Net income (loss) | B6: 70000000 | C6: 66000000 | D6: 1833000000 | E6: 289000000 | F6: -16000000 | G6: 46000000 | H6: 119000000 | I6: 123000000 | J6: -13000000 | K6: -209000000 | L6: -18000000 | M6: 320000000 | N6: 364000000 | O6: 406000000 | P6: 526000000 | Q6: 610000000 | R6: 666000000 | S6: 683000000 | T6: 750000000 | U6: 734000000 | V6: 623000000 | W6: 704000000 | X6: 792000000 | Y6: 703000000 | Z6: 644000000 | AA6: 664000000 | AB6: 729000000 | AC6: 505000000 | AD6: 497000000 | AE6: 457000000 | AF6: 646000000 | AG6: 468000000 | AH6: 1133000000 | AI6: 782000000 | AK6: =AU6-SUM(AH6:AJ6) -> 899000000 | AM6: 2258000000 | AN6: =SUM(F6:I6) -> 272000000 | AO6: =SUM(J6:M6) -> 80000000 | AP6: =N6+O6+P6+Q6 -> 1906000000 | AQ6: =SUM(R6:U6) -> 2833000000 | AR6: 2822000000 | AS6: 2542000000 | AT6: 2068000000 | AU6: 2814000000
A8: (Income) loss from discontinued operations, net of tax | B8: - | C8: - | D8: 0 | E8: - | F8: - | G8: 0 | H8: 0 | I8: 0 | J8: 0 | K8: 0 | L8: 0 | M8: 0 | N8: 0 | O8: 0 | P8: 0 | Q8: 0 | R8: 0 | S8: 0 | T8: 0 | U8: 0 | V8: 0 | AM8: 0 | AN8: =SUM(F8:I8) -> 0 | AO8: =SUM(J8:M8) -> 0 | AP8: =N8+O8+P8+Q8 -> 0 | AQ8: =SUM(R8:U8) -> 0 | AR8: 0 | AS8: 0
A9: Adjustments to reconcile net income (loss) to net cash provided by (used for):
A10: Depreciation, amortization and impairment | B10: 491000000 | C10: 496000000 | D10: 497000000 | E10: 503000000 | F10: 502000000 | G10: 506000000 | H10: 517000000 | I10: 522000000 | J10: 540000000 | K10: 543000000 | L10: 589000000 | M10: 316000000 | N10: 341000000 | O10: 305000000 | P10: 306000000 | Q10: 310000000 | R10: 310000000 | S10: 317000000 | T10: 321000000 | U10: 302000000 | V10: 283000000 | W10: 281000000 | X10: 273000000 | Y10: 269000000 | Z10: 235000000 | AA10: 213000000 | AB10: 218000000 | AC10: 259000000 | AD10: 209000000 | AE10: 207000000 | AF10: 201000000 | AG10: 215000000 | AH10: 179000000 | AI10: 184000000 | AK10: =AU10-SUM(AH10:AJ10) -> 192000000 | AM10: 1987000000 | AN10: =SUM(F10:I10) -> 2047000000 | AO10: =SUM(J10:M10) -> 1988000000 | AP10: =N10+O10+P10+Q10 -> 1262000000 | AQ10: =SUM(R10:U10) -> 1250000000 | AR10: 1106000000 | AS10: 925000000 | AT10: 832000000 | AU10: 555000000
A11: Share-based compensation | B11: 69000000 | C11: 69000000 | D11: 83000000 | E11: 93000000 | F11: 86000000 | G11: 87000000 | H11: 84000000 | I11: 89000000 | J11: 107000000 | K11: 105000000 | L11: 83000000 | M11: 89000000 | N11: 91000000 | O11: 93000000 | P11: 81000000 | Q11: 88000000 | R11: 89000000 | S11: 89000000 | T11: 89000000 | U11: 97000000 | V11: 99000000 | W11: 102000000 | X11: 103000000 | Y11: 107000000 | Z11: 115000000 | AA11: 114000000 | AB11: 115000000 | AC11: 117000000 | AD11: 127000000 | AE11: 117000000 | AF11: 118000000 | AG11: 100000000 | AH11: 109000000 | AI11: 105000000 | AK11: =AU11-SUM(AH11:AJ11) -> 114000000 | AM11: 314000000 | AN11: =SUM(F11:I11) -> 346000000 | AO11: =SUM(J11:M11) -> 384000000 | AP11: =N11+O11+P11+Q11 -> 353000000 | AQ11: =SUM(R11:U11) -> 364000000 | AR11: 411000000 | AS11: 461000000 | AT11: 462000000 | AU11: 328000000
A12: Amortization of discount (premium) on debt, net | B12: 10000000 | C12: 11000000 | D12: 10000000 | E12: 11000000 | F12: 11000000 | G12: 11000000 | H12: 12000000 | I12: 8000000 | J12: 0 | K12: -1000000 | L12: 0 | M12: 0 | N12: 0 | O12: 1000000 | P12: 0 | Q12: 0 | R12: 1000000 | S12: 0 | T12: 1000000 | U12: 0 | V12: 1000000 | W12: 0 | X12: 1000000 | Y12: 0 | Z12: 1000000 | AA12: 1000000 | AB12: 0 | AC12: 1000000 | AD12: 1000000 | AE12: 0 | AF12: 1000000 | AG12: 1000000 | AH12: 1000000 | AI12: 0 | AK12: =AU12-SUM(AH12:AJ12) -> 1000000 | AM12: 42000000 | AN12: =SUM(F12:I12) -> 42000000 | AO12: =SUM(J12:M12) -> -1000000 | AP12: =N12+O12+P12+Q12 -> 1000000 | AQ12: =SUM(R12:U12) -> 2000000 | AR12: 2000000 | AS12: 3000000 | AT12: 3000000 | AU12: 2000000
A13: Amortization of debt issuance costs | B13: 3000000 | C13: 2000000 | D13: 2000000 | E13: 3000000 | F13: 3000000 | G13: 3000000 | H13: 2000000 | I13: 3000000 | J13: 1000000 | K13: 3000000 | L13: 3000000 | M13: 2000000 | N13: 2000000 | O13: 1000000 | P13: 2000000 | Q13: 2000000 | R13: 2000000 | S13: 1000000 | T13: 2000000 | U13: 2000000 | V13: 2000000 | W13: 2000000 | X13: 2000000 | Y13: 2000000 | Z13: 2000000 | AA13: 1000000 | AB13: 2000000 | AC13: 2000000 | AD13: 1000000 | AE13: 2000000 | AF13: 2000000 | AG13: 2000000 | AH13: 2000000 | AI13: 2000000 | AK13: =AU13-SUM(AH13:AJ13) -> 1000000 | AM13: 10000000 | AN13: =SUM(F13:I13) -> 11000000 | AO13: =SUM(J13:M13) -> 9000000 | AP13: =N13+O13+P13+Q13 -> 7000000 | AQ13: =SUM(R13:U13) -> 7000000 | AR13: 8000000 | AS13: 7000000 | AT13: 7000000 | AU13: 5000000
A14: Net (gain) loss on sale of assets | B14: 0 | C14: 0 | D14: 0 | E14: 0 | F14: 0 | G14: 1000000 | H14: -21000000 | I14: 0 | J14: -110000000 | K14: 0 | L14: -1000000 | M14: -4000000 | N14: 0 | O14: 0 | P14: 0 | Q14: -1000000 | R14: -1000000 | S14: 0 | T14: -1000000 | U14: 2000000 | V14: 0 | W14: -1000000 | X14: 0 | Y14: 0 | Z14: -2000000 | AA14: 0 | AB14: 0 | AC14: -1000000 | AD14: -22000000 | AE14: -6000000 | AF14: -1000000 | AG14: 0 | AH14: -627000000 | AI14: 0 | AK14: =AU14-SUM(AH14:AJ14) -> 0 | AM14: 0 | AN14: =SUM(F14:I14) -> -20000000 | AO14: =SUM(J14:M14) -> -115000000 | AP14: =N14+O14+P14+Q14 -> -1000000 | AQ14: =SUM(R14:U14) -> 0 | AR14: -1000000 | AS14: -3000000 | AT14: -29000000 | AU14: -627000000
A15: (Gain) loss on extinguishment of debt | B15: 0 | C15: 26000000 | D15: 0 | E15: 0 | F15: 0 | G15: 10000000 | H15: 1000000 | I15: 0 | J15: 0 | K15: 0 | L15: 0 | M15: 60000000 | N15: 0 | O15: 0 | P15: 0 | Q15: 22000000 | R15: 0 | S15: 18000000 | T15: 0 | U15: 0 | V15: 0 | W15: 0 | X15: 0 | Y15: 0 | Z15: 0 | AA15: 0 | AB15: 0 | AC15: 0 | AD15: 0 | AE15: 0 | AF15: 0 | AG15: 0 | AH15: 0 | AI15: 0 | AK15: =AU15-SUM(AH15:AJ15) -> 0 | AM15: 26000000 | AN15: =SUM(F15:I15) -> 11000000 | AO15: =SUM(J15:M15) -> 60000000 | AP15: =N15+O15+P15+Q15 -> 22000000 | AQ15: =SUM(R15:U15) -> 18000000 | AR15: 0 | AS15: 0 | AT15: 0 | AU15: 0
A16: Results relating to equity-accounted investees | B16: -2000000 | C16: 1000000 | D16: -52000000 | E16: -1000000 | F16: -4000000 | G16: 1000000 | H16: 1000000 | I16: 1000000 | J16: 1000000 | K16: 1000000 | L16: 1000000 | M16: 1000000 | N16: 1000000 | O16: 2000000 | P16: -3000000 | Q16: 2000000 | R16: -12000000 | S16: 3000000 | T16: 4000000 | U16: 6000000 | V16: 2000000 | W16: 1000000 | X16: 2000000 | Y16: 2000000 | Z16: 1000000 | AA16: 3000000 | AB16: 6000000 | AC16: 2000000 | AD16: 4000000 | AE16: 28000000 | AF16: 1000000 | AG16: 37000000 | AH16: 4000000 | AI16: 3000000 | AK16: =AU16-SUM(AH16:AJ16) -> 4000000 | AM16: -54000000 | AN16: =SUM(F16:I16) -> -1000000 | AO16: =SUM(J16:M16) -> 4000000 | AP16: =N16+O16+P16+Q16 -> 2000000 | AQ16: =SUM(R16:U16) -> 1000000 | AR16: 7000000 | AS16: 12000000 | AT16: 70000000 | AU16: 11000000
A17: (Gain) loss on equity securities, net | B17: 0 | C17: 0 | D17: 0 | E17: 0 | F17: 0 | G17: 0 | H17: 0 | I17: 0 | J17: 0 | K17: 0 | L17: 0 | M17: -21000000 | N17: -3000000 | O17: 5000000 | P17: -4000000 | Q17: 4000000 | R17: -4000000 | S17: 8000000 | T17: 2000000 | U17: -2000000 | V17: 1000000 | W17: -6000000 | X17: 4000000 | Y17: 0 | Z17: 2000000 | AA17: 3000000 | AB17: 7000000 | AC17: 6000000 | AD17: 6000000 | AE17: -3000000 | AF17: -1000000 | AG17: 0 | AH17: -1000000 | AI17: 1000000 | AK17: =AU17-SUM(AH17:AJ17) -> 2000000 | AM17: 0 | AO17: =SUM(J17:M17) -> -21000000 | AP17: =N17+O17+P17+Q17 -> 2000000 | AQ17: =SUM(R17:U17) -> 4000000 | AR17: -1000000 | AS17: 18000000 | AT17: 2000000 | AU17: 2000000
A18: Deferred tax expense (benefit) | B18: -42000000 | C18: -67000000 | D18: -50000000 | E18: -52000000 | F18: -63000000 | G18: -30000000 | H18: -33000000 | I18: -49000000 | J18: -75000000 | K18: -81000000 | L18: -118000000 | M18: -75000000 | N18: 12000000 | O18: 0 | P18: -6000000 | Q18: -26000000 | R18: -33000000 | S18: -65000000 | T18: -98000000 | U18: -40000000 | V18: -62000000 | W18: -75000000 | X18: -33000000 | Y18: -97000000 | Z18: -64000000 | AA18: -23000000 | AB18: -40000000 | AC18: -145000000 | AD18: -27000000 | AE18: 3000000 | AF18: -8000000 | AG18: 24000000 | AH18: -28000000 | AI18: -13000000 | AK18: =AU18-SUM(AH18:AJ18) -> -43000000 | AM18: -211000000 | AN18: =SUM(F18:I18) -> -175000000 | AO18: =SUM(J18:M18) -> -349000000 | AP18: =N18+O18+P18+Q18 -> -20000000 | AQ18: =SUM(R18:U18) -> -236000000 | AR18: -267000000 | AS18: -272000000 | AT18: -8000000 | AU18: -84000000
A20: Changes in operating assets and Liabilities:
A21: (Increase) decrease in receivables and other current assets | B21: 81000000 | C21: 86000000 | D21: -31000000 | E21: 51000000 | F21: -42000000 | G21: 31000000 | H21: -17000000 | I21: 144000000 | J21: 27000000 | K21: 224000000 | L21: -252000000 | M21: -50000000 | N21: -95000000 | O21: -135000000 | P21: 16000000 | Q21: 38000000 | R21: -61000000 | S21: -50000000 | T21: -54000000 | U21: 59000000 | V21: -138000000 | W21: -20000000 | X21: 40000000 | Y21: -20000000 | Z21: -25000000 | AA21: 10000000 | AB21: -167000000 | AC21: -25000000 | AD21: -29000000 | AE21: -106000000 | AF21: 54000000 | AG21: 38000000 | AH21: -115000000 | AI21: 14000000 | AK21: =AU21-SUM(AH21:AJ21) -> 11000000 | AM21: 187000000 | AN21: =SUM(F21:I21) -> 116000000 | AO21: =SUM(J21:M21) -> -51000000 | AP21: =N21+O21+P21+Q21 -> -176000000 | AQ21: =SUM(R21:U21) -> -106000000 | AR21: -138000000 | AS21: -207000000 | AT21: -43000000 | AU21: -90000000
